BEGIN:VCALENDAR
VERSION:2.0
PRODID:-//CEAM Antincendio - ECPv6.15.15//NONSGML v1.0//EN
CALSCALE:GREGORIAN
METHOD:PUBLISH
X-ORIGINAL-URL:https://www.ceamantincendio.it
X-WR-CALDESC:Eventi per CEAM Antincendio
REFRESH-INTERVAL;VALUE=DURATION:PT1H
X-Robots-Tag:noindex
X-PUBLISHED-TTL:PT1H
BEGIN:VTIMEZONE
TZID:UTC
BEGIN:STANDARD
TZOFFSETFROM:+0000
TZOFFSETTO:+0000
TZNAME:UTC
DTSTART:20250101T000000
END:STANDARD
END:VTIMEZONE
BEGIN:VEVENT
DTSTART;TZID=UTC:20260914T083000
DTEND;TZID=UTC:20260914T123000
DTSTAMP:20260420T203250
CREATED:20260129T100000Z
LAST-MODIFIED:20260129T100000Z
UID:9132-1789374600-1789389000@www.ceamantincendio.it
SUMMARY:Corso Formazione Livello 1
DESCRIPTION:
URL:https://www.ceamantincendio.it/corsi/corso-formazione-livello-1-2026-09-14-0830/
LOCATION:CEAM Antincendio\, Via Angelo Primo Perini\, 2\, Cucciago\, Como\, 22060\, Italy
ATTACH;FMTTYPE=image/png:https://www.ceamantincendio.it/wp-content/uploads/2026/01/CORSO_FORMAZIONE_CEAM-1.png
ORGANIZER;CN="CEAM Antincendio":MAILTO:info@ceamantincendio.it
END:VEVENT
BEGIN:VEVENT
DTSTART;TZID=UTC:20260914T083000
DTEND;TZID=UTC:20260914T133000
DTSTAMP:20260420T203250
CREATED:20260129T100000Z
LAST-MODIFIED:20260129T100000Z
UID:9133-1789374600-1789392600@www.ceamantincendio.it
SUMMARY:Corso Aggiornamento Livello 2
DESCRIPTION:
URL:https://www.ceamantincendio.it/corsi/corso-aggiornamento-livello-2-2026-09-14-0830/
LOCATION:CEAM Antincendio\, Via Angelo Primo Perini\, 2\, Cucciago\, Como\, 22060\, Italy
ATTACH;FMTTYPE=image/png:https://www.ceamantincendio.it/wp-content/uploads/2026/01/CORSO_AGGIORNAMENTO_CEAM-1.png
ORGANIZER;CN="CEAM Antincendio":MAILTO:info@ceamantincendio.it
END:VEVENT
BEGIN:VEVENT
DTSTART;TZID=UTC:20260914T143000
DTEND;TZID=UTC:20260914T163000
DTSTAMP:20260420T203250
CREATED:20260129T100000Z
LAST-MODIFIED:20260129T100000Z
UID:9134-1789396200-1789403400@www.ceamantincendio.it
SUMMARY:Corso Aggiornamento Livello 1
DESCRIPTION:
URL:https://www.ceamantincendio.it/corsi/corso-aggiornamento-livello-1-2026-09-14-1430/
LOCATION:CEAM Antincendio\, Via Angelo Primo Perini\, 2\, Cucciago\, Como\, 22060\, Italy
ATTACH;FMTTYPE=image/png:https://www.ceamantincendio.it/wp-content/uploads/2026/01/CORSO_AGGIORNAMENTO_CEAM-1.png
ORGANIZER;CN="CEAM Antincendio":MAILTO:info@ceamantincendio.it
END:VEVENT
BEGIN:VEVENT
DTSTART;TZID=UTC:20260928T083000
DTEND;TZID=UTC:20260928T123000
DTSTAMP:20260420T203250
CREATED:20260129T100000Z
LAST-MODIFIED:20260129T100000Z
UID:9135-1790584200-1790598600@www.ceamantincendio.it
SUMMARY:Corso Formazione Livello 2
DESCRIPTION:
URL:https://www.ceamantincendio.it/corsi/corso-formazione-livello-2-2026-09-28-0830/
LOCATION:CEAM Antincendio\, Via Angelo Primo Perini\, 2\, Cucciago\, Como\, 22060\, Italy
ATTACH;FMTTYPE=image/png:https://www.ceamantincendio.it/wp-content/uploads/2026/01/CORSO_FORMAZIONE_CEAM-1.png
ORGANIZER;CN="CEAM Antincendio":MAILTO:info@ceamantincendio.it
END:VEVENT
BEGIN:VEVENT
DTSTART;TZID=UTC:20260928T140000
DTEND;TZID=UTC:20260928T180000
DTSTAMP:20260420T203250
CREATED:20260129T100000Z
LAST-MODIFIED:20260129T100000Z
UID:9136-1790604000-1790618400@www.ceamantincendio.it
SUMMARY:Corso Formazione Livello 2
DESCRIPTION:
URL:https://www.ceamantincendio.it/corsi/corso-formazione-livello-2-2026-09-28-1400/
LOCATION:CEAM Antincendio\, Via Angelo Primo Perini\, 2\, Cucciago\, Como\, 22060\, Italy
ATTACH;FMTTYPE=image/png:https://www.ceamantincendio.it/wp-content/uploads/2026/01/CORSO_FORMAZIONE_CEAM-1.png
ORGANIZER;CN="CEAM Antincendio":MAILTO:info@ceamantincendio.it
END:VEVENT
END:VCALENDAR