BEGIN:VCALENDAR
VERSION:2.0
PRODID:-//CEAM Antincendio - ECPv6.15.15//NONSGML v1.0//EN
CALSCALE:GREGORIAN
METHOD:PUBLISH
X-WR-CALNAME:CEAM Antincendio
X-ORIGINAL-URL:https://www.ceamantincendio.it
X-WR-CALDESC:Eventi per CEAM Antincendio
REFRESH-INTERVAL;VALUE=DURATION:PT1H
X-Robots-Tag:noindex
X-PUBLISHED-TTL:PT1H
BEGIN:VTIMEZONE
TZID:UTC
BEGIN:STANDARD
TZOFFSETFROM:+0000
TZOFFSETTO:+0000
TZNAME:UTC
DTSTART:20240101T000000
END:STANDARD
END:VTIMEZONE
BEGIN:VEVENT
DTSTART;TZID=UTC:20260323T140000
DTEND;TZID=UTC:20260323T180000
DTSTAMP:20260421T042044
CREATED:20260129T100000Z
LAST-MODIFIED:20260129T100000Z
UID:9111-1774274400-1774288800@www.ceamantincendio.it
SUMMARY:Corso Formazione Livello 2
DESCRIPTION:
URL:https://www.ceamantincendio.it/corsi/corso-formazione-livello-2-2026-03-23-1400/
LOCATION:CEAM Antincendio\, Via Angelo Primo Perini\, 2\, Cucciago\, Como\, 22060\, Italy
ATTACH;FMTTYPE=image/png:https://www.ceamantincendio.it/wp-content/uploads/2026/01/CORSO_FORMAZIONE_CEAM-1.png
ORGANIZER;CN="CEAM Antincendio":MAILTO:info@ceamantincendio.it
END:VEVENT
BEGIN:VEVENT
DTSTART;TZID=UTC:20260323T083000
DTEND;TZID=UTC:20260323T123000
DTSTAMP:20260421T042044
CREATED:20260129T100000Z
LAST-MODIFIED:20260129T100000Z
UID:9110-1774254600-1774269000@www.ceamantincendio.it
SUMMARY:Corso Formazione Livello 2
DESCRIPTION:
URL:https://www.ceamantincendio.it/corsi/corso-formazione-livello-2-2026-03-23-0830/
LOCATION:CEAM Antincendio\, Via Angelo Primo Perini\, 2\, Cucciago\, Como\, 22060\, Italy
ATTACH;FMTTYPE=image/png:https://www.ceamantincendio.it/wp-content/uploads/2026/01/CORSO_FORMAZIONE_CEAM-1.png
ORGANIZER;CN="CEAM Antincendio":MAILTO:info@ceamantincendio.it
END:VEVENT
BEGIN:VEVENT
DTSTART;TZID=UTC:20260309T143000
DTEND;TZID=UTC:20260309T163000
DTSTAMP:20260421T042044
CREATED:20260129T100000Z
LAST-MODIFIED:20260129T100000Z
UID:9109-1773066600-1773073800@www.ceamantincendio.it
SUMMARY:Corso Aggiornamento Livello 1
DESCRIPTION:
URL:https://www.ceamantincendio.it/corsi/corso-aggiornamento-livello-1-2026-03-09-1430/
LOCATION:CEAM Antincendio\, Via Angelo Primo Perini\, 2\, Cucciago\, Como\, 22060\, Italy
ATTACH;FMTTYPE=image/png:https://www.ceamantincendio.it/wp-content/uploads/2026/01/CORSO_AGGIORNAMENTO_CEAM-1.png
ORGANIZER;CN="CEAM Antincendio":MAILTO:info@ceamantincendio.it
END:VEVENT
BEGIN:VEVENT
DTSTART;TZID=UTC:20260309T083000
DTEND;TZID=UTC:20260309T133000
DTSTAMP:20260421T042044
CREATED:20260129T100000Z
LAST-MODIFIED:20260129T100000Z
UID:9108-1773045000-1773063000@www.ceamantincendio.it
SUMMARY:Corso Aggiornamento Livello 2
DESCRIPTION:
URL:https://www.ceamantincendio.it/corsi/corso-aggiornamento-livello-2-2026-03-09-0830/
LOCATION:CEAM Antincendio\, Via Angelo Primo Perini\, 2\, Cucciago\, Como\, 22060\, Italy
ATTACH;FMTTYPE=image/png:https://www.ceamantincendio.it/wp-content/uploads/2026/01/CORSO_AGGIORNAMENTO_CEAM-1.png
ORGANIZER;CN="CEAM Antincendio":MAILTO:info@ceamantincendio.it
END:VEVENT
BEGIN:VEVENT
DTSTART;TZID=UTC:20260309T083000
DTEND;TZID=UTC:20260309T123000
DTSTAMP:20260421T042044
CREATED:20260129T100000Z
LAST-MODIFIED:20260129T100000Z
UID:9107-1773045000-1773059400@www.ceamantincendio.it
SUMMARY:Corso Formazione Livello 1
DESCRIPTION:
URL:https://www.ceamantincendio.it/corsi/corso-formazione-livello-1-2026-03-09-0830/
LOCATION:CEAM Antincendio\, Via Angelo Primo Perini\, 2\, Cucciago\, Como\, 22060\, Italy
ATTACH;FMTTYPE=image/png:https://www.ceamantincendio.it/wp-content/uploads/2026/01/CORSO_FORMAZIONE_CEAM-1.png
ORGANIZER;CN="CEAM Antincendio":MAILTO:info@ceamantincendio.it
END:VEVENT
BEGIN:VEVENT
DTSTART;TZID=UTC:20260223T140000
DTEND;TZID=UTC:20260223T180000
DTSTAMP:20260421T042044
CREATED:20260129T100000Z
LAST-MODIFIED:20260129T100000Z
UID:9106-1771855200-1771869600@www.ceamantincendio.it
SUMMARY:Corso Formazione Livello 2
DESCRIPTION:
URL:https://www.ceamantincendio.it/corsi/corso-formazione-livello-2-2026-02-23-1400/
LOCATION:CEAM Antincendio\, Via Angelo Primo Perini\, 2\, Cucciago\, Como\, 22060\, Italy
ATTACH;FMTTYPE=image/png:https://www.ceamantincendio.it/wp-content/uploads/2026/01/CORSO_FORMAZIONE_CEAM-1.png
ORGANIZER;CN="CEAM Antincendio":MAILTO:info@ceamantincendio.it
END:VEVENT
BEGIN:VEVENT
DTSTART;TZID=UTC:20260223T083000
DTEND;TZID=UTC:20260223T123000
DTSTAMP:20260421T042044
CREATED:20260129T100000Z
LAST-MODIFIED:20260129T100000Z
UID:9105-1771835400-1771849800@www.ceamantincendio.it
SUMMARY:Corso Formazione Livello 2
DESCRIPTION:
URL:https://www.ceamantincendio.it/corsi/corso-formazione-livello-2-2026-02-23-0830/
LOCATION:CEAM Antincendio\, Via Angelo Primo Perini\, 2\, Cucciago\, Como\, 22060\, Italy
ATTACH;FMTTYPE=image/png:https://www.ceamantincendio.it/wp-content/uploads/2026/01/CORSO_FORMAZIONE_CEAM-1.png
ORGANIZER;CN="CEAM Antincendio":MAILTO:info@ceamantincendio.it
END:VEVENT
BEGIN:VEVENT
DTSTART;TZID=UTC:20260209T143000
DTEND;TZID=UTC:20260209T163000
DTSTAMP:20260421T042044
CREATED:20260129T100000Z
LAST-MODIFIED:20260129T100000Z
UID:9104-1770647400-1770654600@www.ceamantincendio.it
SUMMARY:Corso Aggiornamento Livello 1
DESCRIPTION:
URL:https://www.ceamantincendio.it/corsi/corso-aggiornamento-livello-1-2026-02-09-1430/
LOCATION:CEAM Antincendio\, Via Angelo Primo Perini\, 2\, Cucciago\, Como\, 22060\, Italy
ATTACH;FMTTYPE=image/png:https://www.ceamantincendio.it/wp-content/uploads/2026/01/CORSO_AGGIORNAMENTO_CEAM-1.png
ORGANIZER;CN="CEAM Antincendio":MAILTO:info@ceamantincendio.it
END:VEVENT
BEGIN:VEVENT
DTSTART;TZID=UTC:20260209T083000
DTEND;TZID=UTC:20260209T133000
DTSTAMP:20260421T042044
CREATED:20260129T100000Z
LAST-MODIFIED:20260129T100000Z
UID:9103-1770625800-1770643800@www.ceamantincendio.it
SUMMARY:Corso Aggiornamento Livello 2
DESCRIPTION:
URL:https://www.ceamantincendio.it/corsi/corso-aggiornamento-livello-2-2026-02-09-0830/
LOCATION:CEAM Antincendio\, Via Angelo Primo Perini\, 2\, Cucciago\, Como\, 22060\, Italy
ATTACH;FMTTYPE=image/png:https://www.ceamantincendio.it/wp-content/uploads/2026/01/CORSO_AGGIORNAMENTO_CEAM-1.png
ORGANIZER;CN="CEAM Antincendio":MAILTO:info@ceamantincendio.it
END:VEVENT
BEGIN:VEVENT
DTSTART;TZID=UTC:20260209T083000
DTEND;TZID=UTC:20260209T123000
DTSTAMP:20260421T042044
CREATED:20260129T100000Z
LAST-MODIFIED:20260129T100000Z
UID:9102-1770625800-1770640200@www.ceamantincendio.it
SUMMARY:Corso Formazione Livello 1
DESCRIPTION:
URL:https://www.ceamantincendio.it/corsi/corso-formazione-livello-1-2026-02-09-0830/
LOCATION:CEAM Antincendio\, Via Angelo Primo Perini\, 2\, Cucciago\, Como\, 22060\, Italy
ATTACH;FMTTYPE=image/png:https://www.ceamantincendio.it/wp-content/uploads/2026/01/CORSO_FORMAZIONE_CEAM-1.png
ORGANIZER;CN="CEAM Antincendio":MAILTO:info@ceamantincendio.it
END:VEVENT
BEGIN:VEVENT
DTSTART;TZID=UTC:20260126T140000
DTEND;TZID=UTC:20260126T180000
DTSTAMP:20260421T042044
CREATED:20260129T100000Z
LAST-MODIFIED:20260129T100000Z
UID:9101-1769436000-1769450400@www.ceamantincendio.it
SUMMARY:Corso Formazione Livello 2
DESCRIPTION:
URL:https://www.ceamantincendio.it/corsi/corso-formazione-livello-2-2026-01-26-1400/
LOCATION:CEAM Antincendio\, Via Angelo Primo Perini\, 2\, Cucciago\, Como\, 22060\, Italy
ATTACH;FMTTYPE=image/png:https://www.ceamantincendio.it/wp-content/uploads/2026/01/CORSO_FORMAZIONE_CEAM-1.png
ORGANIZER;CN="CEAM Antincendio":MAILTO:info@ceamantincendio.it
END:VEVENT
BEGIN:VEVENT
DTSTART;TZID=UTC:20260126T083000
DTEND;TZID=UTC:20260126T123000
DTSTAMP:20260421T042044
CREATED:20260129T100000Z
LAST-MODIFIED:20260129T100000Z
UID:9100-1769416200-1769430600@www.ceamantincendio.it
SUMMARY:Corso Formazione Livello 2
DESCRIPTION:
URL:https://www.ceamantincendio.it/corsi/corso-formazione-livello-2-2026-01-26-0830/
LOCATION:CEAM Antincendio\, Via Angelo Primo Perini\, 2\, Cucciago\, Como\, 22060\, Italy
ATTACH;FMTTYPE=image/png:https://www.ceamantincendio.it/wp-content/uploads/2026/01/CORSO_FORMAZIONE_CEAM-1.png
ORGANIZER;CN="CEAM Antincendio":MAILTO:info@ceamantincendio.it
END:VEVENT
BEGIN:VEVENT
DTSTART;TZID=UTC:20251127T080000
DTEND;TZID=UTC:20251127T170000
DTSTAMP:20260421T042044
CREATED:20251127T094243Z
LAST-MODIFIED:20260129T135116Z
UID:1966-1764230400-1764262800@www.ceamantincendio.it
SUMMARY:Evento Prova
DESCRIPTION:Descrizione evento Ceam antincendio
URL:https://www.ceamantincendio.it/corsi/evento-prova/
LOCATION:CEAM Antincendio\, Via Angelo Primo Perini\, 2\, Cucciago\, Como\, 22060\, Italy
ATTACH;FMTTYPE=image/jpeg:https://www.ceamantincendio.it/wp-content/uploads/2025/11/QNXL294-1.jpg
ORGANIZER;CN="CEAM Antincendio":MAILTO:info@ceamantincendio.it
END:VEVENT
END:VCALENDAR