BEGIN:VCALENDAR
VERSION:2.0
PRODID:-//CEAM Antincendio - ECPv6.15.15//NONSGML v1.0//EN
CALSCALE:GREGORIAN
METHOD:PUBLISH
X-ORIGINAL-URL:https://www.ceamantincendio.it
X-WR-CALDESC:Eventi per CEAM Antincendio
REFRESH-INTERVAL;VALUE=DURATION:PT1H
X-Robots-Tag:noindex
X-PUBLISHED-TTL:PT1H
BEGIN:VTIMEZONE
TZID:UTC
BEGIN:STANDARD
TZOFFSETFROM:+0000
TZOFFSETTO:+0000
TZNAME:UTC
DTSTART:20250101T000000
END:STANDARD
END:VTIMEZONE
BEGIN:VEVENT
DTSTART;TZID=UTC:20260928T083000
DTEND;TZID=UTC:20260928T123000
DTSTAMP:20260420T221537
CREATED:20260129T100000Z
LAST-MODIFIED:20260129T100000Z
UID:9135-1790584200-1790598600@www.ceamantincendio.it
SUMMARY:Corso Formazione Livello 2
DESCRIPTION:
URL:https://www.ceamantincendio.it/corsi/corso-formazione-livello-2-2026-09-28-0830/
LOCATION:CEAM Antincendio\, Via Angelo Primo Perini\, 2\, Cucciago\, Como\, 22060\, Italy
ATTACH;FMTTYPE=image/png:https://www.ceamantincendio.it/wp-content/uploads/2026/01/CORSO_FORMAZIONE_CEAM-1.png
ORGANIZER;CN="CEAM Antincendio":MAILTO:info@ceamantincendio.it
END:VEVENT
BEGIN:VEVENT
DTSTART;TZID=UTC:20260928T140000
DTEND;TZID=UTC:20260928T180000
DTSTAMP:20260420T221537
CREATED:20260129T100000Z
LAST-MODIFIED:20260129T100000Z
UID:9136-1790604000-1790618400@www.ceamantincendio.it
SUMMARY:Corso Formazione Livello 2
DESCRIPTION:
URL:https://www.ceamantincendio.it/corsi/corso-formazione-livello-2-2026-09-28-1400/
LOCATION:CEAM Antincendio\, Via Angelo Primo Perini\, 2\, Cucciago\, Como\, 22060\, Italy
ATTACH;FMTTYPE=image/png:https://www.ceamantincendio.it/wp-content/uploads/2026/01/CORSO_FORMAZIONE_CEAM-1.png
ORGANIZER;CN="CEAM Antincendio":MAILTO:info@ceamantincendio.it
END:VEVENT
END:VCALENDAR